BEGIN:VCALENDAR
VERSION:2.0
PRODID:-//Judo Scotland - ECPv6.15.20//NONSGML v1.0//EN
CALSCALE:GREGORIAN
METHOD:PUBLISH
X-ORIGINAL-URL:https://www.judoscotland.com
X-WR-CALDESC:Events for Judo Scotland
REFRESH-INTERVAL;VALUE=DURATION:PT1H
X-Robots-Tag:noindex
X-PUBLISHED-TTL:PT1H
BEGIN:VTIMEZONE
TZID:Europe/London
BEGIN:DAYLIGHT
TZOFFSETFROM:+0000
TZOFFSETTO:+0100
TZNAME:BST
DTSTART:20250330T010000
END:DAYLIGHT
BEGIN:STANDARD
TZOFFSETFROM:+0100
TZOFFSETTO:+0000
TZNAME:GMT
DTSTART:20251026T010000
END:STANDARD
BEGIN:DAYLIGHT
TZOFFSETFROM:+0000
TZOFFSETTO:+0100
TZNAME:BST
DTSTART:20260329T010000
END:DAYLIGHT
BEGIN:STANDARD
TZOFFSETFROM:+0100
TZOFFSETTO:+0000
TZNAME:GMT
DTSTART:20261025T010000
END:STANDARD
BEGIN:DAYLIGHT
TZOFFSETFROM:+0000
TZOFFSETTO:+0100
TZNAME:BST
DTSTART:20270328T010000
END:DAYLIGHT
BEGIN:STANDARD
TZOFFSETFROM:+0100
TZOFFSETTO:+0000
TZNAME:GMT
DTSTART:20271031T010000
END:STANDARD
END:VTIMEZONE
BEGIN:VEVENT
DTSTART;TZID=Europe/London:20260309T180000
DTEND;TZID=Europe/London:20260309T210000
DTSTAMP:20260421T182602
CREATED:20251030T102120Z
LAST-MODIFIED:20251030T102120Z
UID:10000778-1773079200-1773090000@www.judoscotland.com
SUMMARY:Child Wellbeing and Protection Officer (CWPO) Training: Virtual Workshop
DESCRIPTION:[vc_row][vc_column][vc_column_text uncode_shortcode_id=”781797″]Child Wellbeing and Protection Officer (CWPO) Training \nJudoScotland has identified resource within this year’s budget in order to support clubs to meet the Club Welfare Officer requirements. \nFrom now\, until the end of December 2026\, Club Welfare Officers within clubs based in Scotland will be able to attend free of charge\, however non-attendance will incur a fee of £20. \nLaunched spring 2019\, this workshop replaced ‘In Safe Hands 1 & 2’. The workshop is suitable for individuals responsible for leading their club or organisation in the wellbeing and protection of children and young people. Learners will have the opportunity to develop knowledge and skills to manage concerns through the use of interactive case studies and group work. \nSuitable for: Child Wellbeing and Protection Officers or those in a similar role who are aged 18+ yrs. \nPrerequisites:  Learners must have completed both modules of the Child Wellbeing & Protection in Sport (CWPS). \nWorkshop aims: \n\nTo provide participants with the opportunity to further develop skills in fulfilling their role as Child Protection Officer\nTo provide the opportunity for Child Protection Officers to explore\, in more detail\, the type of well being and protection concerns that may arise for children and young people within\, or outwith\, the SGB\, club environment and how to respond effectively\nTo help SGB/clubs implement practices and procedures to keep children and young people safe.\n\nLearning Outcomes: \nBy the end of the workshop participants will be able to: \n\nConfidently assess the suitability of an individual to work with children and young people.\nUnderstand legal responsibilities relating to PVG checks or referrals to Disclosure Scotland and identify who is responsible for this in their setting.\nRespond effectively to wellbeing and protection concerns that may arise in or out-with the club environment.\nRecognise ways in which club culture influences the wellbeing and protection of children and identify methods for effecting cultural change in this important area.\n\nTopics: \nRecruitment and selection \nResponding to child protection and well-being concerns \nInformation sharing \nFact finding and case referrals \nAn introduction to PVG \nYou will receive a booking confirmation and will then receive the Zoom link for the course in the two weeks prior to the course date.[/vc_column_text][vc_button border_width=”0″ link=”url:https%3A%2F%2Fjudoscotland.justgo.com%2Fworkbench%2Fpublic%2Fevents%3Fref%3D63B6DAD94BFF2EA0736621C15F462492038852FE|target:_blank” uncode_shortcode_id=”117076″]Book Your Space[/vc_button][/vc_column][/vc_row]
URL:https://www.judoscotland.com/event/child-wellbeing-and-protection-officer-cwpo-training-virtual-workshop-9/
LOCATION:Online
ATTACH;FMTTYPE=image/png:https://www.judoscotland.com/wp-content/uploads/2023/01/child-wellbeing-protection-in-sport.png
END:VEVENT
END:VCALENDAR