BEGIN:VCALENDAR
VERSION:2.0
PRODID:-//Judo Scotland - ECPv6.15.20//NONSGML v1.0//EN
CALSCALE:GREGORIAN
METHOD:PUBLISH
X-WR-CALNAME:Judo Scotland
X-ORIGINAL-URL:https://www.judoscotland.com
X-WR-CALDESC:Events for Judo Scotland
REFRESH-INTERVAL;VALUE=DURATION:PT1H
X-Robots-Tag:noindex
X-PUBLISHED-TTL:PT1H
BEGIN:VTIMEZONE
TZID:Europe/London
BEGIN:DAYLIGHT
TZOFFSETFROM:+0000
TZOFFSETTO:+0100
TZNAME:BST
DTSTART:20210328T010000
END:DAYLIGHT
BEGIN:STANDARD
TZOFFSETFROM:+0100
TZOFFSETTO:+0000
TZNAME:GMT
DTSTART:20211031T010000
END:STANDARD
BEGIN:DAYLIGHT
TZOFFSETFROM:+0000
TZOFFSETTO:+0100
TZNAME:BST
DTSTART:20220327T010000
END:DAYLIGHT
BEGIN:STANDARD
TZOFFSETFROM:+0100
TZOFFSETTO:+0000
TZNAME:GMT
DTSTART:20221030T010000
END:STANDARD
BEGIN:DAYLIGHT
TZOFFSETFROM:+0000
TZOFFSETTO:+0100
TZNAME:BST
DTSTART:20230326T010000
END:DAYLIGHT
BEGIN:STANDARD
TZOFFSETFROM:+0100
TZOFFSETTO:+0000
TZNAME:GMT
DTSTART:20231029T010000
END:STANDARD
BEGIN:DAYLIGHT
TZOFFSETFROM:+0000
TZOFFSETTO:+0100
TZNAME:BST
DTSTART:20240331T010000
END:DAYLIGHT
BEGIN:STANDARD
TZOFFSETFROM:+0100
TZOFFSETTO:+0000
TZNAME:GMT
DTSTART:20241027T010000
END:STANDARD
END:VTIMEZONE
BEGIN:VEVENT
DTSTART;TZID=Europe/London:20230409T130000
DTEND;TZID=Europe/London:20230409T150000
DTSTAMP:20260421T213927
CREATED:20221220T120531Z
LAST-MODIFIED:20230727T173355Z
UID:10000096-1681045200-1681052400@www.judoscotland.com
SUMMARY:Scottish Masters Judo Session
DESCRIPTION:[vc_row][vc_column][vc_column_text uncode_shortcode_id=”210143″]Calling All Masters – New Registration Process for Monthly Sessions \nTraining sessions are held once a month and all Masters are welcome to join whenever they can. \nTo support administration and preparation for sessions\, registrations and payments (£5pp per session) will now be made online here\, using Just Go\, JudoScotland’s membership portal. \nIf you have a JudoScotland membership already\, the process is simple. Log in to your account\, using your membership number as your username and complete the event ticket for the session you wish to attend. If you don’t have a JudoScotland membership\, follow the sign-up to become a member\, following the prompts to get a JudoScotland membership. \nIf you are a member with another national association who is visiting for the Masters session\, please contact us on 0131 333 2981. \nThank you in advance for your help as we transition to a new registration process to ensure that all participants are covered by relevant membership and insurance. And of course\, if you have any questions at all\, please do not hesitate to contact JudoScotland. \n[/vc_column_text][vc_button border_width=”0″ link=”url:https%3A%2F%2Fjudoscotland.justgo.com%2FWorkbench%2FHome|target:_blank” uncode_shortcode_id=”148906″]Book Your Space[/vc_button][vc_button border_width=”0″ link=”url:https%3A%2F%2Fwww.facebook.com%2Fgroups%2Fscottishmastersjudo|target:_blank” uncode_shortcode_id=”135983″]Find Out More About Masters Judo [/vc_button][vc_button border_width=”0″ link=”url:https%3A%2F%2Fclubshop.macron.com%2Faberdeen%2Fjudo-scotland-masters|target:_blank” icon=”fa fa-shopping-basket” uncode_shortcode_id=”550341″]Shop Macron Masters Clothing[/vc_button][/vc_column][/vc_row]
URL:https://www.judoscotland.com/event/scottish-masters-judo-session-2/2023-04-09/
LOCATION:JudoScotland\, EICA - Ratho\, South Platt Hill\, Newbridge\, EH28 8AA
CATEGORIES:Club Run Event
ATTACH;FMTTYPE=image/jpeg:https://www.judoscotland.com/wp-content/uploads/2022/12/scottish-masters-sesssions.jpg
END:VEVENT
BEGIN:VEVENT
DTSTART;VALUE=DATE:20230401
DTEND;VALUE=DATE:20230402
DTSTAMP:20260421T213927
CREATED:20230227T131506Z
LAST-MODIFIED:20230306T095242Z
UID:10000135-1680307200-1680393599@www.judoscotland.com
SUMMARY:Cluarankwai Judo Club Masterclass Sessions
DESCRIPTION:[vc_row][vc_column][vc_column_text uncode_shortcode_id=”815920″]A day of masterclasses with the aim to bring the judo community together and enjoy judo. \nMorning Session: 10-12 a children’s session with Gary Edwards coaching (1.5hrs coaching followed by 30 mins randori) \nAfternoon Session: 1- 3 pm a senior session with Takafumi Kitahara (1.5 hrs coaching followed by 30 mins randori).  \nA light buffet lunch will be available between the sessions for coaches who have players attending both sessions.  \nThe venue is: \nCluarankwai Judo Club \n21 New Mill Road \nKilmarnock \nKA1 3JB \nFor more information email: info@kilmarnockjudoclub.com[/vc_column_text][/vc_column][/vc_row][vc_row][vc_column width=”1/1″][vc_button border_width=”0″ link=”url:https%3A%2F%2Fmanager.dojoexpert.com%2Fstudent%2Fregister.aspx%3Fg%3D4C5887F6-AADB-4DC2-9F28-DD69648B620C%26j%3Den-GB” uncode_shortcode_id=”104692″]Book Session Here[/vc_button][/vc_column][/vc_row]
URL:https://www.judoscotland.com/event/cluarankwai-judo-club-masterclass-sessions/
LOCATION:Cluarankwai Judo Club\, 21 New Mill Road\, KA1 3JB
CATEGORIES:Club Run Event
ATTACH;FMTTYPE=image/png:https://www.judoscotland.com/wp-content/uploads/2022/06/Club-Event-11.png
END:VEVENT
BEGIN:VEVENT
DTSTART;TZID=Europe/London:20230312T130000
DTEND;TZID=Europe/London:20230312T150000
DTSTAMP:20260421T213927
CREATED:20221220T120531Z
LAST-MODIFIED:20230727T173355Z
UID:10000095-1678626000-1678633200@www.judoscotland.com
SUMMARY:Scottish Masters Judo Session
DESCRIPTION:[vc_row][vc_column][vc_column_text uncode_shortcode_id=”210143″]Calling All Masters – New Registration Process for Monthly Sessions \nTraining sessions are held once a month and all Masters are welcome to join whenever they can. \nTo support administration and preparation for sessions\, registrations and payments (£5pp per session) will now be made online here\, using Just Go\, JudoScotland’s membership portal. \nIf you have a JudoScotland membership already\, the process is simple. Log in to your account\, using your membership number as your username and complete the event ticket for the session you wish to attend. If you don’t have a JudoScotland membership\, follow the sign-up to become a member\, following the prompts to get a JudoScotland membership. \nIf you are a member with another national association who is visiting for the Masters session\, please contact us on 0131 333 2981. \nThank you in advance for your help as we transition to a new registration process to ensure that all participants are covered by relevant membership and insurance. And of course\, if you have any questions at all\, please do not hesitate to contact JudoScotland. \n[/vc_column_text][vc_button border_width=”0″ link=”url:https%3A%2F%2Fjudoscotland.justgo.com%2FWorkbench%2FHome|target:_blank” uncode_shortcode_id=”148906″]Book Your Space[/vc_button][vc_button border_width=”0″ link=”url:https%3A%2F%2Fwww.facebook.com%2Fgroups%2Fscottishmastersjudo|target:_blank” uncode_shortcode_id=”135983″]Find Out More About Masters Judo [/vc_button][vc_button border_width=”0″ link=”url:https%3A%2F%2Fclubshop.macron.com%2Faberdeen%2Fjudo-scotland-masters|target:_blank” icon=”fa fa-shopping-basket” uncode_shortcode_id=”550341″]Shop Macron Masters Clothing[/vc_button][/vc_column][/vc_row]
URL:https://www.judoscotland.com/event/scottish-masters-judo-session-2/2023-03-12/
LOCATION:JudoScotland\, EICA - Ratho\, South Platt Hill\, Newbridge\, EH28 8AA
CATEGORIES:Club Run Event
ATTACH;FMTTYPE=image/jpeg:https://www.judoscotland.com/wp-content/uploads/2022/12/scottish-masters-sesssions.jpg
END:VEVENT
BEGIN:VEVENT
DTSTART;VALUE=DATE:20230312
DTEND;VALUE=DATE:20230313
DTSTAMP:20260421T213927
CREATED:20230125T133308Z
LAST-MODIFIED:20230125T133418Z
UID:10000122-1678579200-1678665599@www.judoscotland.com
SUMMARY:Strathkelvin Mon Kyu & Dan Open 2023
DESCRIPTION:[vc_row][vc_column][vc_column_text]A L3 points scoring event \n\n\n\nCost and Entry\n£20.00 – Entry fees are not refundable. \nCheques payable to : Strathkelvin Judo Club. \nPost entries to \nAllan Philip\, 15 Cathkin Crescent\, Carrickstone\, Cumbernauld\, G68 0FD \nEmail : Info@Strathkelvin-Judo.com \nOnline entry at  www.onlineentries.co.uk/strathkelvin \nENTRY FEES ARE NOT REFUNDABLE\n\n\nClosing Date\nFriday 24th Feb or when maximum entry has been reached. No telephone or late entries will be accepted.\n\n\nAA – 10\nMon Grades Born 2015\, 2014\, 2013 \n(Must be 8 years or over on the day)\n\n\nA – 12\nMon Grades Born  2012\, 2011\n\n\nB/C -16 \nMon/Kyu Grades Born 2010\,2009\, 2008 & 2007\n\n\n Kyu                              \nGrades\nMen & Women Novice – 5th Kyu (14 years & above ) \n**No armlocks or chokes allowed** \nMen & Women 4th – 2nd Kyu (14 years & above ) \n** armlocks and chokes allowed**\n\n\n Dan Grades \n \nMen & Women 1st Kyu and Dan grades (14 years & above ) \n*****Points scoring*****\n\n\n\n[/vc_column_text][vc_button border_width=”0″ uncode_shortcode_id=”594266″ link=”url:https%3A%2F%2Fwww.judoscotland.com%2Fwp-content%2Fuploads%2F2023%2F01%2F2023_Open_Entry.pdf”]To Find Out More & Enter Click Here[/vc_button][/vc_column][/vc_row]
URL:https://www.judoscotland.com/event/strathkelvin-mon-kyu-dan-open-2023/
LOCATION:St Maurices High School\, Westfield\, Cumbernauld\, G68 9AG\, United Kingdom
CATEGORIES:Club Run Event
ATTACH;FMTTYPE=image/png:https://www.judoscotland.com/wp-content/uploads/2022/06/Club-Event-11.png
END:VEVENT
BEGIN:VEVENT
DTSTART;TZID=Europe/London:20230212T130000
DTEND;TZID=Europe/London:20230212T150000
DTSTAMP:20260421T213927
CREATED:20221220T120531Z
LAST-MODIFIED:20230727T173355Z
UID:10000094-1676206800-1676214000@www.judoscotland.com
SUMMARY:Scottish Masters Judo Session
DESCRIPTION:[vc_row][vc_column][vc_column_text uncode_shortcode_id=”210143″]Calling All Masters – New Registration Process for Monthly Sessions \nTraining sessions are held once a month and all Masters are welcome to join whenever they can. \nTo support administration and preparation for sessions\, registrations and payments (£5pp per session) will now be made online here\, using Just Go\, JudoScotland’s membership portal. \nIf you have a JudoScotland membership already\, the process is simple. Log in to your account\, using your membership number as your username and complete the event ticket for the session you wish to attend. If you don’t have a JudoScotland membership\, follow the sign-up to become a member\, following the prompts to get a JudoScotland membership. \nIf you are a member with another national association who is visiting for the Masters session\, please contact us on 0131 333 2981. \nThank you in advance for your help as we transition to a new registration process to ensure that all participants are covered by relevant membership and insurance. And of course\, if you have any questions at all\, please do not hesitate to contact JudoScotland. \n[/vc_column_text][vc_button border_width=”0″ link=”url:https%3A%2F%2Fjudoscotland.justgo.com%2FWorkbench%2FHome|target:_blank” uncode_shortcode_id=”148906″]Book Your Space[/vc_button][vc_button border_width=”0″ link=”url:https%3A%2F%2Fwww.facebook.com%2Fgroups%2Fscottishmastersjudo|target:_blank” uncode_shortcode_id=”135983″]Find Out More About Masters Judo [/vc_button][vc_button border_width=”0″ link=”url:https%3A%2F%2Fclubshop.macron.com%2Faberdeen%2Fjudo-scotland-masters|target:_blank” icon=”fa fa-shopping-basket” uncode_shortcode_id=”550341″]Shop Macron Masters Clothing[/vc_button][/vc_column][/vc_row]
URL:https://www.judoscotland.com/event/scottish-masters-judo-session-2/2023-02-12/
LOCATION:JudoScotland\, EICA - Ratho\, South Platt Hill\, Newbridge\, EH28 8AA
CATEGORIES:Club Run Event
ATTACH;FMTTYPE=image/jpeg:https://www.judoscotland.com/wp-content/uploads/2022/12/scottish-masters-sesssions.jpg
END:VEVENT
BEGIN:VEVENT
DTSTART;TZID=Europe/London:20230212T100000
DTEND;TZID=Europe/London:20230212T130000
DTSTAMP:20260421T213927
CREATED:20230125T121029Z
LAST-MODIFIED:20230125T121029Z
UID:10000121-1676196000-1676206800@www.judoscotland.com
SUMMARY:Ben Fletcher Master Class – Coaching Revalidation
DESCRIPTION:[vc_row][vc_column][vc_column_text]DATE: Sunday 12th February 2023 \nTIME: 10 am – 1 pm \nVENUE: Sporting Chances\, Level 5\, Princes House\, 50 West Campbell Street\, Glasgow\, G2 6QQ \nCoach Revalidation Event \nChildren over the age of 14 years can attend but must be accompanied by an adult \nTake your judo skills to the next level with Ben Fletcher’s Judo Masterclass! Join Ben Fletcher\, an experienced Olympian and winner of 9 IJF World Tour medals\, for an exclusive masterclass. With Ben’s wealth of experience and unique insights\, you can unlock your inner champion gaining technical and mental insight from one of the best in the game. Don’t miss this once-in-a-lifetime opportunity to learn from a true master![/vc_column_text][vc_button border_width=”0″ link=”url:https%3A%2F%2Fwww.projudo.co.uk%2Fproduct%2Fben-fletcher-master-class%2F|target:_blank” uncode_shortcode_id=”108562″]Book Your Space[/vc_button][/vc_column][/vc_row]
URL:https://www.judoscotland.com/event/ben-fletcher-master-class-coaching-revalidation/
LOCATION:Pro Judo City Venue\, Princes House\, 5th Floor\, 50 West Cambell Street\, Glasgow\, G2 6QQ\, United Kingdom
CATEGORIES:Club Run Event
ATTACH;FMTTYPE=image/png:https://www.judoscotland.com/wp-content/uploads/2022/06/Club-Event-11.png
END:VEVENT
BEGIN:VEVENT
DTSTART;VALUE=DATE:20230204
DTEND;VALUE=DATE:20230206
DTSTAMP:20260421T213927
CREATED:20230105T154908Z
LAST-MODIFIED:20230117T113934Z
UID:10000113-1675468800-1675641599@www.judoscotland.com
SUMMARY:Scottish Student Judo Individual & Team Championships 2022/23
DESCRIPTION:Date: Competition: Saturday 4th February 2023\, Training Day: Sunday 5th February 2023 \nScottish Student Sport are excited to announce that the Judo Championships will be back as part of the Scottish Student Games! This is the largest\, multi-event for students hosted in Scotland and will take over the City of Edinburgh and City of Glasgow! \nThis year\, the Judo Championships will offer a Mixed Team competition\, in place of separate Men’s and Women’s Teams too! \nThe Sunday will feature a Training Day to give students the chance to learn from a brilliant coach and socialise even further. \nFull details and an entry form for this event can be found here.
URL:https://www.judoscotland.com/event/scottish-student-judo-individual-team-championships-2022-23/
LOCATION:Strathclyde Sport\,\, 160 Cathedral Street\,\, Glasgow\, G4 0RF\, United Kingdom
CATEGORIES:Club Run Event
ATTACH;FMTTYPE=image/jpeg:https://www.judoscotland.com/wp-content/uploads/2022/01/scottish-student-sport.jpg
END:VEVENT
BEGIN:VEVENT
DTSTART;TZID=Europe/London:20230108T130000
DTEND;TZID=Europe/London:20230108T150000
DTSTAMP:20260421T213927
CREATED:20221220T120531Z
LAST-MODIFIED:20230727T173355Z
UID:10000093-1673182800-1673190000@www.judoscotland.com
SUMMARY:Scottish Masters Judo Session
DESCRIPTION:[vc_row][vc_column][vc_column_text uncode_shortcode_id=”210143″]Calling All Masters – New Registration Process for Monthly Sessions \nTraining sessions are held once a month and all Masters are welcome to join whenever they can. \nTo support administration and preparation for sessions\, registrations and payments (£5pp per session) will now be made online here\, using Just Go\, JudoScotland’s membership portal. \nIf you have a JudoScotland membership already\, the process is simple. Log in to your account\, using your membership number as your username and complete the event ticket for the session you wish to attend. If you don’t have a JudoScotland membership\, follow the sign-up to become a member\, following the prompts to get a JudoScotland membership. \nIf you are a member with another national association who is visiting for the Masters session\, please contact us on 0131 333 2981. \nThank you in advance for your help as we transition to a new registration process to ensure that all participants are covered by relevant membership and insurance. And of course\, if you have any questions at all\, please do not hesitate to contact JudoScotland. \n[/vc_column_text][vc_button border_width=”0″ link=”url:https%3A%2F%2Fjudoscotland.justgo.com%2FWorkbench%2FHome|target:_blank” uncode_shortcode_id=”148906″]Book Your Space[/vc_button][vc_button border_width=”0″ link=”url:https%3A%2F%2Fwww.facebook.com%2Fgroups%2Fscottishmastersjudo|target:_blank” uncode_shortcode_id=”135983″]Find Out More About Masters Judo [/vc_button][vc_button border_width=”0″ link=”url:https%3A%2F%2Fclubshop.macron.com%2Faberdeen%2Fjudo-scotland-masters|target:_blank” icon=”fa fa-shopping-basket” uncode_shortcode_id=”550341″]Shop Macron Masters Clothing[/vc_button][/vc_column][/vc_row]
URL:https://www.judoscotland.com/event/scottish-masters-judo-session-2/2023-01-08/
LOCATION:JudoScotland\, EICA - Ratho\, South Platt Hill\, Newbridge\, EH28 8AA
CATEGORIES:Club Run Event
ATTACH;FMTTYPE=image/jpeg:https://www.judoscotland.com/wp-content/uploads/2022/12/scottish-masters-sesssions.jpg
END:VEVENT
BEGIN:VEVENT
DTSTART;VALUE=DATE:20221022
DTEND;VALUE=DATE:20221023
DTSTAMP:20260421T213927
CREATED:20220630T111044Z
LAST-MODIFIED:20220630T111138Z
UID:10000057-1666396800-1666483199@www.judoscotland.com
SUMMARY:2022 Cherry Blossom Open
DESCRIPTION:An established developmental event on the Scottish Judo calendar. This event is suitable for beginners\, less experienced players or those who are looking to dip their toe in competitive judo. \nENTRY FORM
URL:https://www.judoscotland.com/event/2022-cherry-blossom-open/
LOCATION:Craigswood\, Craigswood Sports Centre\, Livingston\, EH54 5ER\, United Kingdom
CATEGORIES:Club Run Event
ATTACH;FMTTYPE=image/png:https://www.judoscotland.com/wp-content/uploads/2022/06/Club-Event-11.png
ORGANIZER;CN="Jidel Judo 93":MAILTO:johnnyimrie93@gmail.com
END:VEVENT
BEGIN:VEVENT
DTSTART;TZID=Europe/London:20221008T090000
DTEND;TZID=Europe/London:20221008T170000
DTSTAMP:20260421T213927
CREATED:20220912T100901Z
LAST-MODIFIED:20220912T100901Z
UID:10000069-1665219600-1665248400@www.judoscotland.com
SUMMARY:Northern Ireland Adaptive & VI Open
DESCRIPTION:The Northern Ireland Judo Federation are delighted to be running the Northern Ireland Adaptive & VI Open again in association with the sponsors at Driver Training NI. \nThe event is open to Adaptive Judo competitors who have intellectual\, physical or developmental conditions that would normally (except Level 1 & 2) preclude them from mainstream competitions. \nMore information\, the entry form and the event outline can be found on the website the Northern Ireland Adaptive & VI Open . \nIf you have any event and online entry queries\, please direct them to events@nijudo.com \n 
URL:https://www.judoscotland.com/event/northern-ireland-adaptive-vi-open/
LOCATION:Foyle Arena\, L’Derry\, Foyle Arena 2\, Limavady Rd\, Northern Ireland\, United Kingdom
CATEGORIES:Club Run Event
ATTACH;FMTTYPE=image/png:https://www.judoscotland.com/wp-content/uploads/2022/09/ninewlogo-retina.png
ORGANIZER;CN="The Northern Ireland Judo Federation":MAILTO:events@nijudo.com
END:VEVENT
BEGIN:VEVENT
DTSTART;VALUE=DATE:20220917
DTEND;VALUE=DATE:20220918
DTSTAMP:20260421T213927
CREATED:20220627T081226Z
LAST-MODIFIED:20220830T132105Z
UID:10000055-1663372800-1663459199@www.judoscotland.com
SUMMARY:Hibari Kan Junior Open 2022
DESCRIPTION: This is a DEVELOPMENT EVENT aimed at competitors with limited competition experience.  \n Age Band ’AA’ – Year Born –2012/2013/2014    \n Entrants must be 8 years old on the day of the competition.  \n Age Band ‘A’ – Year Born – 2010/2011 \n Age Band ‘B’ – Year Born – 2008/2009  \n All entrants must produce proof of a current JudoScotland Licence or affiliated membership \nEvent Information
URL:https://www.judoscotland.com/event/hibari-kan-junior-open-2022/
LOCATION:Larkhall Leisure Centre\, Broomhill\, Larkhall\, Lanarkshire ML9 1QP\, Larkhall Leisure Centre\,\, Broomhill\, Larkhall\,\, Lanarkshire\, ML9 1QP
CATEGORIES:Club Run Event
ATTACH;FMTTYPE=image/png:https://www.judoscotland.com/wp-content/uploads/2022/06/Club-Event-11.png
ORGANIZER;CN="Hibari Kan Judo Club":MAILTO:hibarikanjudo@hotmail.co.uk
END:VEVENT
BEGIN:VEVENT
DTSTART;TZID=Europe/London:20220911T130000
DTEND;TZID=Europe/London:20220911T150000
DTSTAMP:20260421T213927
CREATED:20220829T110830Z
LAST-MODIFIED:20220908T123235Z
UID:10000065-1662901200-1662908400@www.judoscotland.com
SUMMARY:Scottish Masters Judo Session
DESCRIPTION:Rick Kenney (OBE) 8th Dan will be leading the Masters Training Sessions for the remainder of 2022. \n\nRick has over 50 years in Judo and is currently the President Of The Commonwealth Judo Association as well as holding the position of Honorary Vice President of JudoScotland. \nAssisting Rick will be Jim Feenan 6th Dan\, between them they bring a great wealth of knowledge to the sessions. \nAs with previous sessions\, we will be following the usual format\, coaching for around an hour followed by randori for the rest of the time for those who are up for it. £5 mat fee. \n\nThese sessions are open to all players 29 years and above regardless of ability\, gender\, experience or grade\, everyone can take something away from these sessions. \nAll session participants are expected to be valid JudoScotland or BJA members and should check that their membership is valid before attending. \nMasters should arrive 15 mins before the session start time and be changed and ready (strapping applied etc) 5 mins before session start time. Changing facilities at the EICA are available and can be found on Level 2 of the building (Dojo is on Level 4) \n*The IFSC Climbing World Cup will also be taking place at Ratho at the same time. Please allow extra time to travel/park and please state that you are at the venue to visit JudoScotland at the ticket/security checkpoints.
URL:https://www.judoscotland.com/event/scottish-masters-judo-session/
LOCATION:JudoScotland\, EICA - Ratho\, South Platt Hill\, Newbridge\, EH28 8AA
CATEGORIES:Club Run Event
ATTACH;FMTTYPE=image/jpeg:https://www.judoscotland.com/wp-content/uploads/2022/08/298967436_10158683486716884_7124982899590024530_n.jpg
END:VEVENT
BEGIN:VEVENT
DTSTART;VALUE=DATE:20220704
DTEND;VALUE=DATE:20220806
DTSTAMP:20260421T213927
CREATED:20220630T094219Z
LAST-MODIFIED:20220630T094219Z
UID:10000056-1656892800-1659743999@www.judoscotland.com
SUMMARY:Jidel Judo 93 Summer Camp
DESCRIPTION:CAMP 1\nMonday 4th July – Friday 8th July\nCAMP 4\nMonday 25th July – Friday 29th July\n\n\nCAMP 2\nMonday 11th July – Friday 15th July\nCAMP 5\nMonday 1st Aug – Friday 5th Aug\n\n\nCAMP3\nMonday 18th July – Friday 22nd July\n \n\n\n\n 
URL:https://www.judoscotland.com/event/jidel-judo-93-summer-camp/
CATEGORIES:Club Run Event
ATTACH;FMTTYPE=image/png:https://www.judoscotland.com/wp-content/uploads/2022/06/Club-Event-11.png
ORGANIZER;CN="Jidel Judo 93":MAILTO:johnnyimrie93@gmail.com
END:VEVENT
END:VCALENDAR