BEGIN:VCALENDAR
VERSION:2.0
PRODID:-//Judo Scotland - ECPv6.15.20//NONSGML v1.0//EN
CALSCALE:GREGORIAN
METHOD:PUBLISH
X-WR-CALNAME:Judo Scotland
X-ORIGINAL-URL:https://www.judoscotland.com
X-WR-CALDESC:Events for Judo Scotland
REFRESH-INTERVAL;VALUE=DURATION:PT1H
X-Robots-Tag:noindex
X-PUBLISHED-TTL:PT1H
BEGIN:VTIMEZONE
TZID:Europe/London
BEGIN:DAYLIGHT
TZOFFSETFROM:+0000
TZOFFSETTO:+0100
TZNAME:BST
DTSTART:20250330T010000
END:DAYLIGHT
BEGIN:STANDARD
TZOFFSETFROM:+0100
TZOFFSETTO:+0000
TZNAME:GMT
DTSTART:20251026T010000
END:STANDARD
BEGIN:DAYLIGHT
TZOFFSETFROM:+0000
TZOFFSETTO:+0100
TZNAME:BST
DTSTART:20260329T010000
END:DAYLIGHT
BEGIN:STANDARD
TZOFFSETFROM:+0100
TZOFFSETTO:+0000
TZNAME:GMT
DTSTART:20261025T010000
END:STANDARD
BEGIN:DAYLIGHT
TZOFFSETFROM:+0000
TZOFFSETTO:+0100
TZNAME:BST
DTSTART:20270328T010000
END:DAYLIGHT
BEGIN:STANDARD
TZOFFSETFROM:+0100
TZOFFSETTO:+0000
TZNAME:GMT
DTSTART:20271031T010000
END:STANDARD
END:VTIMEZONE
BEGIN:VEVENT
DTSTART;VALUE=DATE:20260503
DTEND;VALUE=DATE:20260504
DTSTAMP:20260421T162652
CREATED:20251121T101534Z
LAST-MODIFIED:20260420T123338Z
UID:10000792-1777766400-1777852799@www.judoscotland.com
SUMMARY:2026 Clyde (Grand Prix)
DESCRIPTION:[vc_row][vc_column][vc_column_text uncode_shortcode_id=”203631″]Hosted by clubs\, but open to all judoka\, the JudoScotland Grand Prix series plays a vital role in a young Judoka’s development. It introduces critical elements to a judoka’s progress such as coping with competition\, sportsmanship\, dealing with pressure and the use of tactics\, key skills not just for sport but for life. \nDate: Sunday 3rd May 2026 \nVenue: Lagoon Leisure Centre 11 Christie Street\, Paisley\, PA1 1NB\,[/vc_column_text][vc_button border_width=”0″ link=”url:https%3A%2F%2Fjudoscotland.justgo.com%2FWorkbench%2Fi%2Fr%2FEventsAndBookings%2Fbooking-details%2FCF3170E162DD12A42A950F644366A8D2BDAAE267|target:_blank” uncode_shortcode_id=”483548″]Book Your Space Here[/vc_button][vc_button border_width=”0″ link=”url:https%3A%2F%2Fwww.judoscotland.com%2Fwp-content%2Fuploads%2F2025%2F12%2FClyde-GP-Entry-Form-2026.pdf|target:_blank” uncode_shortcode_id=”156746″]Event Outlines[/vc_button][vc_column_text uncode_shortcode_id=”113053″] \nCompetitor Information\nSunday weigh in                               \n\n\n\nAA Band Male and Female \nYear born: 2016/2017/2018          \n8.15-9.15 am \n\n\nA Band Male and Female \nYear born:  \n2014/2015 \n8.15-9.15 am \n\n\nB Band Male and Female    \nYear born: 2012/2013       \n11-11.30 am    \n\n\nC Band Male and Female  \nYear born: 2009/2010/2011 \n12.30-1.00 pm \n\n\nAll Seniors.    \n  \n2.00-2.30 pm \n\n\n\n    \nA timeline is more appropriate than a time graph because there are too many changes on the day of even\, such as. variations in weights make a time graph unreliable\, matches do not always run to a consistent time\, which further reduces its accuracy  \nRunning order of the day   \n10.00 competition start time   \nAA & A Band  \nB Band  \nC Band  \nSeniors  \nPlease note that there remains the possibility that actual group sizes may differ on the day\, through circumstances out with the Tournament Organisers control (non-appearance\, change of weight category etc.).   \nAdditional Information/Things to remember:  \n\nA valid Judo Licence is necessary to attend this event.   \n\n\nPlease remember to bring your Judo Licence or be able to show that your licence is in date. \n\n\nThe is a small café onsite. \n\n\nCar parking is available\, with additional parking at Renfrewshire House\, Cotton St\, Paisley\, PA1 1BU\, \n\n\nPaisley Gilmour Street train Station is also only a 9-minute walk to the Lagoon. \n\n\nPlease car share where possible as spaces do tend to fill up fast. \n\n\nEntry list can be found on JudoScotland website on Monday 27th April 2026. \n\n[/vc_column_text][vc_button border_width=”0″ link=”url:https%3A%2F%2Fwww.judoscotland.com%2Fwp-content%2Fuploads%2F2026%2F04%2FClyde-2026-Entry-List.pdf|target:_blank” uncode_shortcode_id=”592028″]Entry List[/vc_button][vc_column_text uncode_shortcode_id=”131735″]For any amendments or enquiries\, please contact the event organiser\, susanwright43@yahoo.co.uk .[/vc_column_text][/vc_column][/vc_row][vc_row][vc_column width=”1/3″][vc_single_image media=”107239″ media_width_percent=”100″ uncode_shortcode_id=”159819″][/vc_column][vc_column width=”1/3″][vc_single_image media=”106665″ media_width_percent=”100″ uncode_shortcode_id=”146617″][/vc_column][vc_column width=”1/3″][vc_column_text uncode_shortcode_id=”117793″]The Grand Prix series is intended to provide judoka with an appropriate level of competition.  This event is suitable for those who are at the progression (minors and pre-cadets) and developing athletes (cadets & seniors) within the JudoScotland Player Development Framework. Please speak to your club coach before entering to ensure this event is suitable for you.[/vc_column_text][/vc_column][/vc_row]
URL:https://www.judoscotland.com/event/2025-clyde-grand-prix-2/
LOCATION:Lagoon Leisure Centre\, 11 Christie Street\, Paisley\, PA1 1NB\, United Kingdom
CATEGORIES:Grand Prix
ATTACH;FMTTYPE=image/png:https://www.judoscotland.com/wp-content/uploads/2022/06/1643882494ClubEvent5.png
END:VEVENT
BEGIN:VEVENT
DTSTART;VALUE=DATE:20260530
DTEND;VALUE=DATE:20260531
DTSTAMP:20260421T162652
CREATED:20251121T101817Z
LAST-MODIFIED:20251204T145957Z
UID:10000791-1780099200-1780185599@www.judoscotland.com
SUMMARY:2026 Granite City (Grand Prix)
DESCRIPTION:[vc_row][vc_column][vc_column_text uncode_shortcode_id=”208204″]Hosted by clubs\, but open to all judoka\, the JudoScotland Grand Prix series plays a vital role in a young Judoka’s development. It introduces critical elements to a judoka’s progress such as coping with competition\, sportsmanship\, dealing with pressure and the use of tactics\, key skills not just for sport but for life. \nDate: Saturday 30th May 2026 \nVenue: Aberdeen Sports Village\, Linksfield Rd\, Aberdeen AB24 5RU[/vc_column_text][vc_button button_color=”color-207544″ border_width=”0″ link=”url:https%3A%2F%2Fjudoscotland.justgo.com%2FWorkbench%2Fi%2Fr%2FEventsAndBookings%2Fbooking-details%2F86AF073DEA1B5582AFE793D8364C979FC23334F8|target:_blank” button_color_type=”uncode-palette” uncode_shortcode_id=”130697″]Book Your Space Here[/vc_button][vc_button border_width=”0″ link=”url:https%3A%2F%2Fwww.judoscotland.com%2Fwp-content%2Fuploads%2F2025%2F12%2FGranite-City-GP-Entry-Form-2026_.pdf|target:_blank” uncode_shortcode_id=”104717″]Event Outlines[/vc_button][/vc_column][/vc_row][vc_row][vc_column width=”1/3″][vc_single_image media=”107239″ media_width_percent=”100″ uncode_shortcode_id=”615676″][/vc_column][vc_column width=”1/3″][vc_single_image media=”106665″ media_width_percent=”100″ uncode_shortcode_id=”316454″][/vc_column][vc_column width=”1/3″][vc_column_text uncode_shortcode_id=”457091″]The Grand Prix series is intended to provide judoka with an appropriate level of competition. This event is suitable for those who are at the progression (minors and pre-cadets) and developing athletes (cadets & seniors) within the JudoScotland Player Development Framework. Please speak to your club coach before entering to ensure this event is suitable for you.[/vc_column_text][/vc_column][/vc_row]
URL:https://www.judoscotland.com/event/2026-granite-city-grand-prix/
LOCATION:Aberdeen Sports Village\, Linksfeld Road\, Aberdeen\, AB24 5RU
CATEGORIES:Grand Prix
ATTACH;FMTTYPE=image/png:https://www.judoscotland.com/wp-content/uploads/2022/06/1643882494ClubEvent5.png
END:VEVENT
BEGIN:VEVENT
DTSTART;VALUE=DATE:20260912
DTEND;VALUE=DATE:20260913
DTSTAMP:20260421T162652
CREATED:20260209T092221Z
LAST-MODIFIED:20260317T110506Z
UID:10000834-1789171200-1789257599@www.judoscotland.com
SUMMARY:2026 Highland Budokan (Grand Prix)
DESCRIPTION:[vc_row][vc_column][vc_column_text uncode_shortcode_id=”437744″]Hosted by clubs\, but open to all judoka\, the JudoScotland Grand Prix series plays a vital role in a young Judoka’s development. It introduces critical elements to a judoka’s progress such as coping with competition\, sportsmanship\, dealing with pressure and the use of tactics\, key skills not just for sport but for life. \nDate: Saturday 12th September 2026 \nVenue: Inverness Leisure Centre\, Bught Lane\, Inverness\, IV3 5SS[/vc_column_text][vc_button button_color=”color-207544″ border_width=”0″ link=”url:https%3A%2F%2Fjudoscotland.justgo.com%2FWorkbench%2Fi%2Fr%2FEventsAndBookings%2Fbooking-details%2F10E4F0A4D8244687BAEA2C44195198DF63D9B573|target:_blank” button_color_type=”uncode-palette” uncode_shortcode_id=”166747″]Book Your Space Here[/vc_button][vc_button button_color=”color-207544″ border_width=”0″ link=”url:https%3A%2F%2Fwww.judoscotland.com%2Fwp-content%2Fuploads%2F2026%2F03%2FHighland-Budokan-GP-Entry-Form-2026-1.pdf|target:_blank” button_color_type=”uncode-palette” uncode_shortcode_id=”199687″]Event Outlines[/vc_button][/vc_column][/vc_row][vc_row][vc_column width=”1/3″][vc_single_image media=”106665″ media_width_percent=”100″ uncode_shortcode_id=”157396″][/vc_column][vc_column width=”1/3″][vc_single_image media=”107239″ media_width_percent=”100″ uncode_shortcode_id=”437965″][/vc_column][vc_column width=”1/3″][vc_column_text uncode_shortcode_id=”974423″]The Grand Prix series is intended to provide judoka with an appropriate level of competition. This event is suitable for those who are at the progression (minors and pre-cadets) and developing athletes (cadets & seniors) within the JudoScotland Player Development Framework. Please speak to your club coach before entering to ensure this event is suitable for you.[/vc_column_text][/vc_column][/vc_row][vc_row][vc_column width=”1/1″][/vc_column][/vc_row]
URL:https://www.judoscotland.com/event/2026-highland-budokan-grand-prix/
LOCATION:Inverness Leisure Centre\, Bught Lane\, Inverness\, IV3 5SS
CATEGORIES:Grand Prix
ATTACH;FMTTYPE=image/png:https://www.judoscotland.com/wp-content/uploads/2022/06/1643882494ClubEvent5.png
END:VEVENT
END:VCALENDAR