BEGIN:VCALENDAR
VERSION:2.0
PRODID:-//Judo Scotland - ECPv6.15.20//NONSGML v1.0//EN
CALSCALE:GREGORIAN
METHOD:PUBLISH
X-ORIGINAL-URL:https://www.judoscotland.com
X-WR-CALDESC:Events for Judo Scotland
REFRESH-INTERVAL;VALUE=DURATION:PT1H
X-Robots-Tag:noindex
X-PUBLISHED-TTL:PT1H
BEGIN:VTIMEZONE
TZID:Europe/London
BEGIN:DAYLIGHT
TZOFFSETFROM:+0000
TZOFFSETTO:+0100
TZNAME:BST
DTSTART:20260329T010000
END:DAYLIGHT
BEGIN:STANDARD
TZOFFSETFROM:+0100
TZOFFSETTO:+0000
TZNAME:GMT
DTSTART:20261025T010000
END:STANDARD
BEGIN:DAYLIGHT
TZOFFSETFROM:+0000
TZOFFSETTO:+0100
TZNAME:BST
DTSTART:20270328T010000
END:DAYLIGHT
BEGIN:STANDARD
TZOFFSETFROM:+0100
TZOFFSETTO:+0000
TZNAME:GMT
DTSTART:20271031T010000
END:STANDARD
BEGIN:DAYLIGHT
TZOFFSETFROM:+0000
TZOFFSETTO:+0100
TZNAME:BST
DTSTART:20280326T010000
END:DAYLIGHT
BEGIN:STANDARD
TZOFFSETFROM:+0100
TZOFFSETTO:+0000
TZNAME:GMT
DTSTART:20281029T010000
END:STANDARD
END:VTIMEZONE
BEGIN:VEVENT
DTSTART;VALUE=DATE:20271106
DTEND;VALUE=DATE:20271108
DTSTAMP:20260421T163330
CREATED:20260416T111045Z
LAST-MODIFIED:20260416T111045Z
UID:10000847-1825459200-1825631999@www.judoscotland.com
SUMMARY:Scottish National Closed Championship 2027 - Save The Date
DESCRIPTION:
URL:https://www.judoscotland.com/event/scottish-national-closed-championship-2027-save-the-date/
ATTACH;FMTTYPE=image/jpeg:https://www.judoscotland.com/wp-content/uploads/2026/04/F1A6328-scaled.jpg
END:VEVENT
BEGIN:VEVENT
DTSTART;VALUE=DATE:20271128
DTEND;VALUE=DATE:20271129
DTSTAMP:20260421T163330
CREATED:20260416T111217Z
LAST-MODIFIED:20260416T111742Z
UID:10000848-1827360000-1827446399@www.judoscotland.com
SUMMARY:Keizoku 2027 - Save The Date
DESCRIPTION:
URL:https://www.judoscotland.com/event/keizoku-2027-save-the-date/
ATTACH;FMTTYPE=image/png:https://www.judoscotland.com/wp-content/uploads/2025/05/I-conquered-Keizoku-Instagram-Post-2.png
END:VEVENT
END:VCALENDAR