BEGIN:VCALENDAR
VERSION:2.0
PRODID:-//Judo Scotland - ECPv6.15.20//NONSGML v1.0//EN
CALSCALE:GREGORIAN
METHOD:PUBLISH
X-ORIGINAL-URL:https://www.judoscotland.com
X-WR-CALDESC:Events for Judo Scotland
REFRESH-INTERVAL;VALUE=DURATION:PT1H
X-Robots-Tag:noindex
X-PUBLISHED-TTL:PT1H
BEGIN:VTIMEZONE
TZID:Europe/London
BEGIN:DAYLIGHT
TZOFFSETFROM:+0000
TZOFFSETTO:+0100
TZNAME:BST
DTSTART:20220327T010000
END:DAYLIGHT
BEGIN:STANDARD
TZOFFSETFROM:+0100
TZOFFSETTO:+0000
TZNAME:GMT
DTSTART:20221030T010000
END:STANDARD
BEGIN:DAYLIGHT
TZOFFSETFROM:+0000
TZOFFSETTO:+0100
TZNAME:BST
DTSTART:20230326T010000
END:DAYLIGHT
BEGIN:STANDARD
TZOFFSETFROM:+0100
TZOFFSETTO:+0000
TZNAME:GMT
DTSTART:20231029T010000
END:STANDARD
BEGIN:DAYLIGHT
TZOFFSETFROM:+0000
TZOFFSETTO:+0100
TZNAME:BST
DTSTART:20240331T010000
END:DAYLIGHT
BEGIN:STANDARD
TZOFFSETFROM:+0100
TZOFFSETTO:+0000
TZNAME:GMT
DTSTART:20241027T010000
END:STANDARD
BEGIN:DAYLIGHT
TZOFFSETFROM:+0000
TZOFFSETTO:+0100
TZNAME:BST
DTSTART:20250330T010000
END:DAYLIGHT
BEGIN:STANDARD
TZOFFSETFROM:+0100
TZOFFSETTO:+0000
TZNAME:GMT
DTSTART:20251026T010000
END:STANDARD
BEGIN:DAYLIGHT
TZOFFSETFROM:+0000
TZOFFSETTO:+0100
TZNAME:BST
DTSTART:20260329T010000
END:DAYLIGHT
BEGIN:STANDARD
TZOFFSETFROM:+0100
TZOFFSETTO:+0000
TZNAME:GMT
DTSTART:20261025T010000
END:STANDARD
END:VTIMEZONE
BEGIN:VEVENT
DTSTART;VALUE=DATE:20250531
DTEND;VALUE=DATE:20250601
DTSTAMP:20260421T221213
CREATED:20241024T133917Z
LAST-MODIFIED:20250520T104611Z
UID:10000656-1748649600-1748735999@www.judoscotland.com
SUMMARY:2025 Granite City (Grand Prix)
DESCRIPTION:[vc_row][vc_column][vc_column_text uncode_shortcode_id=”287434″]We have pulled together the following information ahead of the 2025 Granite City Grand Prix \nDate: Saturday 31st May 2025 \nVenue: Aberdeen Sports Village\, Linksfield Rd\, Aberdeen AB24 5RU \nAccess to venue: 8:30am for competitors and spectators – no entry prior to this. \nSpectator Fee: Free \nCompetitor Changing Rooms: Numbers 1 & 2 \nFood & Beverages: Two on site cafés. Tesco Express round the corner at Petrol station \nImportant Information: Please be careful in the centre of Aberdeen as there has been many new Bus Gates installed since last year and that the LEZ areas are in operation. \nWEIGH IN TIMES\nAge Band AA – 8:45am to 9am \nAge Band A – 9am to 9:30am \nAge Band B – 10am to 10:30am \nAge Band C – 11:30am to 12pm \nSENIORS – 1:45pm to 2:15pm \nTIMEGRAPH\nAA Band will start of the day at 10am followed by A Band\, B Band\, C Band and concluding the day with the Seniors categories. \nPlease note that there remains the possibility that actual group sizes may differ on the day\, through circumstances out with the Tournament Organisers control (non-appearance\, change of weight category etc.). \nAdditional Information: \n\nProvisional Timeline and could be subject to change.\nA valid Judo Licence is necessary to attend this event.\nPlease remember to bring your Judo Licence or be able to show that your licence is in date.\nEntry list below\nAdditional parking map below\n\n[/vc_column_text][vc_single_image media=”117761″ media_width_percent=”100″ uncode_shortcode_id=”321893″][vc_button border_width=”0″ link=”url:https%3A%2F%2Fwww.judoscotland.com%2Fwp-content%2Fuploads%2F2025%2F05%2FGranite-city-Entry-List-Updated.pdf|target:_blank” uncode_shortcode_id=”101729″]Entry List[/vc_button][vc_button button_color=”color-207544″ border_width=”0″ link=”url:https%3A%2F%2Fjudoscotland.justgo.com%2FWorkbench%2Fi%2Fr%2FEventsAndBookings%2Fdetails%2F7E5A14CAA6703002A0BF35C8F085169E0C26E7F8|target:_blank” button_color_type=”uncode-palette” uncode_shortcode_id=”176344″]Book Coaching Pass[/vc_button][/vc_column][/vc_row][vc_row][vc_column width=”1/3″][vc_single_image media=”107239″ media_width_percent=”100″ uncode_shortcode_id=”615676″][/vc_column][vc_column width=”1/3″][vc_single_image media=”106665″ media_width_percent=”100″ uncode_shortcode_id=”316454″][/vc_column][vc_column width=”1/3″][vc_column_text uncode_shortcode_id=”457091″]The Grand Prix series is intended to provide judoka with an appropriate level of competition. This event is suitable for those who are at the progression (minors and pre-cadets) and developing athletes (cadets & seniors) within the JudoScotland Player Development Framework. Please speak to your club coach before entering to ensure this event is suitable for you.[/vc_column_text][/vc_column][/vc_row]
URL:https://www.judoscotland.com/event/2025-granite-city-grand-prix/
LOCATION:Aberdeen Sports Village\, Linksfeld Road\, Aberdeen\, AB24 5RU
CATEGORIES:Grand Prix
ATTACH;FMTTYPE=image/png:https://www.judoscotland.com/wp-content/uploads/2022/06/1643882494ClubEvent5.png
END:VEVENT
BEGIN:VEVENT
DTSTART;VALUE=DATE:20240525
DTEND;VALUE=DATE:20240526
DTSTAMP:20260421T221213
CREATED:20231027T095925Z
LAST-MODIFIED:20240521T114320Z
UID:10000245-1716595200-1716681599@www.judoscotland.com
SUMMARY:2024 Granite City (Grand Prix)
DESCRIPTION:[vc_row][vc_column][vc_column_text uncode_shortcode_id=”308845″]Date: 25th May 2024 \nVenue: Aberdeen Sports Village\, Linksfield Road\, Aberdeen\, AB24 5RU \nHosted by clubs\, but open to all judoka\, the JudoScotland Grand Prix series plays a vital role in a young Judoka’s development. It introduces critical elements to a judoka’s progress such as coping with competition\, sportsmanship\, dealing with pressure and the use of tactics\, key skills not just for sport but for life.[/vc_column_text][vc_button border_width=”0″ uncode_shortcode_id=”600092″ link=”url:https%3A%2F%2Fjudoscotland.justgo.com%2Fworkbench%2Fpublic%2Fevents%3Fref%3D333B3D402A779475D52B671E7C112BF8106ADEEC|target:_blank”]Entry for JudoScotland members[/vc_button][vc_button border_width=”0″ icon=”fa fa-enter-down” uncode_shortcode_id=”160066″ link=”url:https%3A%2F%2Facrobat.adobe.com%2Fid%2Furn%3Aaaid%3Asc%3AEU%3Adf44d6e3-9da1-41d3-ad19-ca9b554bb2b7|target:_blank”]Entry for non-JudoScotland members[/vc_button][vc_button border_width=”0″ link=”url:https%3A%2F%2Facrobat.adobe.com%2Fid%2Furn%3Aaaid%3Asc%3AEU%3A58759bac-5859-4ea6-873e-358f0ebe3dc7|target:_blank” uncode_shortcode_id=”459845″]Timegraph[/vc_button][vc_button border_width=”0″ link=”url:https%3A%2F%2Facrobat.adobe.com%2Fid%2Furn%3Aaaid%3Asc%3AEU%3Aa63cb73f-94a2-4566-ba41-6230b38c3528|target:_blank” uncode_shortcode_id=”672365″]Event Informaion[/vc_button][vc_button border_width=”0″ link=”url:https%3A%2F%2Facrobat.adobe.com%2Fid%2Furn%3Aaaid%3Asc%3AEU%3A95c443e0-5acd-47a4-8955-2f77f92ef850|target:_blank” uncode_shortcode_id=”710980″]Entry List[/vc_button][/vc_column][/vc_row]
URL:https://www.judoscotland.com/event/2024-granite-city-grand-prix/
LOCATION:Aberdeen Sports Village\, Linksfeld Road\, Aberdeen\, AB24 5RU
ATTACH;FMTTYPE=image/png:https://www.judoscotland.com/wp-content/uploads/2022/06/1643882494ClubEvent5.png
END:VEVENT
BEGIN:VEVENT
DTSTART;VALUE=DATE:20230527
DTEND;VALUE=DATE:20230528
DTSTAMP:20260421T221213
CREATED:20221125T103626Z
LAST-MODIFIED:20230523T100249Z
UID:10000083-1685145600-1685231999@www.judoscotland.com
SUMMARY:2023 Granite City (Grand Prix)
DESCRIPTION:[vc_row][vc_column][vc_column_text]Date: 27th May 2023 \nHosted by clubs\, but open to all judoka\, the JudoScotland Grand Prix series plays a vital role in a young Judoka’s development. It introduces critical elements to a judoka’s progress such as coping with competition\, sportsmanship\, dealing with pressure and the use of tactics\, key skills not just for sport but for life. \nEntry and full details through the members zone on the JudoScotland website\, using competitors membership number as the username. This can be found on your JudoScotland licence.[/vc_column_text][vc_column_text uncode_shortcode_id=”197931″]Saturday weigh in \nAA Band (year born 2013/2014/2015) 8.30-9.00am (Male & Female) \nA Band (year born 2011/2012) 8.30-9.00am (Female) \nA Band (year born 2001/2012) 9.00 – 9.30am (Male) \nB Band (year born 2009/2010)10.00-10.30am (Male & Female) \nC Band (year born 2006/2007/2008)11.30-12.00 (Male & Female) \nSenior (14yrs + and Kyu Grades) 14.00-14.30pm (Male & Female) \n  \nAdditional Information: \nThings to remember: \n\nProvisional Timeline and could be subject to change.\n\n\nA valid Judo Licence is necessary to attend this event.\nPlease remember to bring your Judo Licence or be able to show that your licence is in date.\nThere is a small café onsite\, that gets extremely busy.\n\n  \nPlease note that there remains the possibility that actual group sizes may differ on the day\, through circumstances out with the Tournament Organisers control (non-appearance\, change of weight category etc.).[/vc_column_text][vc_button button_color=”color-574589″ border_width=”0″ link=”url:https%3A%2F%2Fwww.judoscotland.com%2Fwp-content%2Fuploads%2F2023%2F05%2F2023-Grantie-City-Entry-List.pdf|target:_blank” uncode_shortcode_id=”686917″ icon=”fa fa-download3″ button_color_type=”uncode-palette”]Entry List[/vc_button][vc_button button_color=”color-574589″ border_width=”0″ link=”url:https%3A%2F%2Fwww.judoscotland.com%2Fwp-content%2Fuploads%2F2023%2F05%2FGranite-City-Timeline-2024.pdf|target:_blank” uncode_shortcode_id=”736295″ icon=”fa fa-download3″ button_color_type=”uncode-palette”]Timeline[/vc_button][vc_button border_width=”0″ link=”url:https%3A%2F%2Fjudoscotland.justgo.com%2Fworkbench%2Fpublic%2Fevents%3Fref%3D668BEB740FB4D3166D0FED8F4AF05BAF30600B84|target:_blank” uncode_shortcode_id=”103580″ icon=”fa fa-ticket2″]Book Your Space[/vc_button][/vc_column][/vc_row]
URL:https://www.judoscotland.com/event/2023-granite-city-grand-prix/
LOCATION:Aberdeen Sports Village\, Linksfeld Road\, Aberdeen\, AB24 5RU
ATTACH;FMTTYPE=image/png:https://www.judoscotland.com/wp-content/uploads/2022/06/1643882494ClubEvent5.png
END:VEVENT
END:VCALENDAR