BEGIN:VCALENDAR
VERSION:2.0
PRODID:-//Judo Scotland - ECPv6.15.20//NONSGML v1.0//EN
CALSCALE:GREGORIAN
METHOD:PUBLISH
X-WR-CALNAME:Judo Scotland
X-ORIGINAL-URL:https://www.judoscotland.com
X-WR-CALDESC:Events for Judo Scotland
REFRESH-INTERVAL;VALUE=DURATION:PT1H
X-Robots-Tag:noindex
X-PUBLISHED-TTL:PT1H
BEGIN:VTIMEZONE
TZID:Europe/London
BEGIN:DAYLIGHT
TZOFFSETFROM:+0000
TZOFFSETTO:+0100
TZNAME:BST
DTSTART:20220327T010000
END:DAYLIGHT
BEGIN:STANDARD
TZOFFSETFROM:+0100
TZOFFSETTO:+0000
TZNAME:GMT
DTSTART:20221030T010000
END:STANDARD
BEGIN:DAYLIGHT
TZOFFSETFROM:+0000
TZOFFSETTO:+0100
TZNAME:BST
DTSTART:20230326T010000
END:DAYLIGHT
BEGIN:STANDARD
TZOFFSETFROM:+0100
TZOFFSETTO:+0000
TZNAME:GMT
DTSTART:20231029T010000
END:STANDARD
BEGIN:DAYLIGHT
TZOFFSETFROM:+0000
TZOFFSETTO:+0100
TZNAME:BST
DTSTART:20240331T010000
END:DAYLIGHT
BEGIN:STANDARD
TZOFFSETFROM:+0100
TZOFFSETTO:+0000
TZNAME:GMT
DTSTART:20241027T010000
END:STANDARD
BEGIN:DAYLIGHT
TZOFFSETFROM:+0000
TZOFFSETTO:+0100
TZNAME:BST
DTSTART:20250330T010000
END:DAYLIGHT
BEGIN:STANDARD
TZOFFSETFROM:+0100
TZOFFSETTO:+0000
TZNAME:GMT
DTSTART:20251026T010000
END:STANDARD
BEGIN:DAYLIGHT
TZOFFSETFROM:+0000
TZOFFSETTO:+0100
TZNAME:BST
DTSTART:20260329T010000
END:DAYLIGHT
BEGIN:STANDARD
TZOFFSETFROM:+0100
TZOFFSETTO:+0000
TZNAME:GMT
DTSTART:20261025T010000
END:STANDARD
END:VTIMEZONE
BEGIN:VEVENT
DTSTART;VALUE=DATE:20250427
DTEND;VALUE=DATE:20250428
DTSTAMP:20260423T225348
CREATED:20241024T133635Z
LAST-MODIFIED:20250422T090431Z
UID:10000655-1745712000-1745798399@www.judoscotland.com
SUMMARY:2025 Clyde (Grand Prix)
DESCRIPTION:[vc_row][vc_column][vc_column_text uncode_shortcode_id=”615581″]Hosted by clubs\, but open to all judoka\, the JudoScotland Grand Prix series plays a vital role in a young Judoka’s development. It introduces critical elements to a judoka’s progress such as coping with competition\, sportsmanship\, dealing with pressure and the use of tactics\, key skills not just for sport but for life. \nDate: 27th April 2025 \nVenue: Lagoon Leisure Centre 11 Christie Street\, Paisley\, PA1 1NB\,[/vc_column_text][vc_button border_width=”0″ link=”url:https%3A%2F%2Fwww.judoscotland.com%2Fwp-content%2Fuploads%2F2025%2F04%2FClyde-GP-Entry-List-3.pdf|target:_blank” uncode_shortcode_id=”201155″]Entry List[/vc_button][vc_button border_width=”0″ link=”url:https%3A%2F%2Fwww.judoscotland.com%2Fwp-content%2Fuploads%2F2025%2F04%2FTime-graph-clyde-2025.pdf|target:_blank” uncode_shortcode_id=”155554″]Event Timeline[/vc_button][vc_button button_color=”color-207544″ border_width=”0″ link=”url:https%3A%2F%2Fjudoscotland.justgo.com%2FWorkbench%2Fi%2Fr%2FEventsAndBookings%2Fdetails%2F5606BE23D28B5336F5C488F2A68716442B209801|target:_blank” button_color_type=”uncode-palette” uncode_shortcode_id=”213254″]Book Coaching Pass[/vc_button][/vc_column][/vc_row][vc_row][vc_column width=”1/3″][vc_single_image media=”107239″ media_width_percent=”100″ uncode_shortcode_id=”159819″][/vc_column][vc_column width=”1/3″][vc_single_image media=”106665″ media_width_percent=”100″ uncode_shortcode_id=”146617″][/vc_column][vc_column width=”1/3″][vc_column_text uncode_shortcode_id=”117793″]The Grand Prix series is intended to provide judoka with an appropriate level of competition.  This event is suitable for those who are at the progression (minors and pre-cadets) and developing athletes (cadets & seniors) within the JudoScotland Player Development Framework. Please speak to your club coach before entering to ensure this event is suitable for you.[/vc_column_text][/vc_column][/vc_row]
URL:https://www.judoscotland.com/event/2025-clyde-grand-prix/
LOCATION:Lagoon Leisure Centre\, 11 Christie Street\, Paisley\, PA1 1NB\, United Kingdom
CATEGORIES:Grand Prix
ATTACH;FMTTYPE=image/png:https://www.judoscotland.com/wp-content/uploads/2022/06/1643882494ClubEvent5.png
END:VEVENT
BEGIN:VEVENT
DTSTART;VALUE=DATE:20240428
DTEND;VALUE=DATE:20240429
DTSTAMP:20260423T225348
CREATED:20231027T095001Z
LAST-MODIFIED:20240419T085202Z
UID:10000244-1714262400-1714348799@www.judoscotland.com
SUMMARY:2024 Clyde (Grand Prix)
DESCRIPTION:[vc_row][vc_column][vc_column_text uncode_shortcode_id=”141230″]Date: 28th April 2024 \nVenue: Lagoon Leisure Centre\, PA1 1NB \nHosted by clubs\, but open to all judoka\, the JudoScotland Grand Prix series plays a vital role in a young Judoka’s development. It introduces critical elements to a judoka’s progress such as coping with competition\, sportsmanship\, dealing with pressure and the use of tactics\, key skills not just for sport but for life.[/vc_column_text][vc_button border_width=”0″ uncode_shortcode_id=”113234″ link=”url:https%3A%2F%2Fjudoscotland.justgo.com%2Fworkbench%2Fpublic%2Fevents%3Fref%3DEEA9A4DEF16407BFB30285D2470A95438AFC4187|target:_blank”]Entry for JudoScotland members[/vc_button][vc_button border_width=”0″ icon=”fa fa-enter-down” uncode_shortcode_id=”175515″ link=”url:https%3A%2F%2Facrobat.adobe.com%2Fid%2Furn%3Aaaid%3Asc%3AEU%3Af55f7c59-2d31-410e-a244-e8ea93811e24|target:_blank”]More details & entry for non-JudoScotland members[/vc_button][vc_button border_width=”0″ icon=”fa fa-enter-down” uncode_shortcode_id=”359611″ link=”url:https%3A%2F%2Facrobat.adobe.com%2Fid%2Furn%3Aaaid%3Asc%3AEU%3Afa2ff752-7654-4101-88e7-b9aac1639af4|target:_blank”]Entry List[/vc_button][vc_column_text uncode_shortcode_id=”222977″] \nWeigh-in Times\nAA Band (year born 2014/2015/2016) 8.30-9.00am \nA Band (year born 2012/2013) 9.30-10.00am \nB Band (year born 2010/2011)11.00-11.30am \nC Band (year born 2007/2008/2009)12.00-12.30 \nSenior (14yrs + and Kyu Grades) 1.30-1.30pm \n[/vc_column_text][/vc_column][/vc_row]
URL:https://www.judoscotland.com/event/2024-clyde-grand-prix/
LOCATION:Lagoon Leisure Centre\, 11 Christie Street\, Paisley\, PA1 1NB\, United Kingdom
ATTACH;FMTTYPE=image/png:https://www.judoscotland.com/wp-content/uploads/2022/06/1643882494ClubEvent5.png
END:VEVENT
BEGIN:VEVENT
DTSTART;VALUE=DATE:20230507
DTEND;VALUE=DATE:20230508
DTSTAMP:20260423T225348
CREATED:20221125T103745Z
LAST-MODIFIED:20230504T080907Z
UID:10000084-1683417600-1683503999@www.judoscotland.com
SUMMARY:2023 Clyde (Grand Prix)
DESCRIPTION:[vc_row][vc_column][vc_column_text uncode_shortcode_id=”192596″]Date: 7th May 2023 \nVenue: Lagoon Leisure Centre\, PA1 1NB \nHosted by clubs\, but open to all judoka\, the JudoScotland Grand Prix series plays a vital role in a young Judoka’s development. It introduces critical elements to a judoka’s progress such as coping with competition\, sportsmanship\, dealing with pressure and the use of tactics\, key skills not just for sport but for life. \nEntry and full details through the members zone on the JudoScotland website\, using competitors membership number as the username. This can be found on your JudoScotland licence. \nSunday weigh in \nAA Band (year born 2013/2014/2015) 8.30-9.00am \nA Band (year born 2011/2012) 9.30-10.00am \nB Band (year born 2009/2010)11.00-11.30am \nC Band (year born 2006/2007/2008)12.00-12.30 \nSenior (14yrs + and Kyu Grades) 1.30-1.30pm \n  \nAdditional Information: \nThings to remember: \n\nProvisional Timeline and could be subject to change.\n\n\nA valid Judo Licence is necessary to attend this event.\nPlease remember to bring your Judo Licence or be able to show that your licence is in date.\nThere is a small café onsite.\n\n  \nPlease note that there remains the possibility that actual group sizes may differ on the day\, through circumstances out with the Tournament Organisers control (non-appearance\, change of weight category etc.). \nWatch the event live here. \n \n[/vc_column_text][vc_button border_width=”0″ icon=”fa fa-enter-down” uncode_shortcode_id=”211904″ link=”url:https%3A%2F%2Fwww.judoscotland.com%2Fwp-content%2Fuploads%2F2023%2F05%2FClyde-Entry-List-2023.pdf|target:_blank”]Clyde Entry List[/vc_button][vc_button border_width=”0″ icon=”fa fa-enter-down” uncode_shortcode_id=”208098″ link=”url:https%3A%2F%2Fwww.judoscotland.com%2Fwp-content%2Fuploads%2F2023%2F05%2FClyde-Provisional-Time-line.pdf|target:_blank”]Provisional Timeline [/vc_button][vc_column_text uncode_shortcode_id=”190220″]JudoScotland would like to take this opportunity to wish you luck for this weekend’s competition and we hope that you enjoy your event experience. \n[vc_button button_color=”color-207544″ border_width=”0″ link=”url:https%3A%2F%2Fjudoscotland.justgo.com%2FWorkbench.mvc%2FShow%2F6%3Fref%3D2F8732AE55787FA1F68E7AB825462C8CA8074314|target:_blank” button_color_type=”uncode-palette” icon=”fa fa-ticket2″ uncode_shortcode_id=”392997″]Enter Event [/vc_button][/vc_column_text][/vc_column][/vc_row]
URL:https://www.judoscotland.com/event/2023-clyde-grand-prix/
LOCATION:Lagoon Leisure Centre\, 11 Christie Street\, Paisley\, PA1 1NB\, United Kingdom
ATTACH;FMTTYPE=image/png:https://www.judoscotland.com/wp-content/uploads/2022/06/1643882494ClubEvent5.png
END:VEVENT
END:VCALENDAR