BEGIN:VCALENDAR
VERSION:2.0
PRODID:-//Judo Scotland - ECPv6.15.20//NONSGML v1.0//EN
CALSCALE:GREGORIAN
METHOD:PUBLISH
X-ORIGINAL-URL:https://www.judoscotland.com
X-WR-CALDESC:Events for Judo Scotland
REFRESH-INTERVAL;VALUE=DURATION:PT1H
X-Robots-Tag:noindex
X-PUBLISHED-TTL:PT1H
BEGIN:VTIMEZONE
TZID:Europe/London
BEGIN:DAYLIGHT
TZOFFSETFROM:+0000
TZOFFSETTO:+0100
TZNAME:BST
DTSTART:20250330T010000
END:DAYLIGHT
BEGIN:STANDARD
TZOFFSETFROM:+0100
TZOFFSETTO:+0000
TZNAME:GMT
DTSTART:20251026T010000
END:STANDARD
BEGIN:DAYLIGHT
TZOFFSETFROM:+0000
TZOFFSETTO:+0100
TZNAME:BST
DTSTART:20260329T010000
END:DAYLIGHT
BEGIN:STANDARD
TZOFFSETFROM:+0100
TZOFFSETTO:+0000
TZNAME:GMT
DTSTART:20261025T010000
END:STANDARD
BEGIN:DAYLIGHT
TZOFFSETFROM:+0000
TZOFFSETTO:+0100
TZNAME:BST
DTSTART:20270328T010000
END:DAYLIGHT
BEGIN:STANDARD
TZOFFSETFROM:+0100
TZOFFSETTO:+0000
TZNAME:GMT
DTSTART:20271031T010000
END:STANDARD
END:VTIMEZONE
BEGIN:VEVENT
DTSTART;TZID=Europe/London:20260511T180000
DTEND;TZID=Europe/London:20260511T210000
DTSTAMP:20260423T180541
CREATED:20260127T134514Z
LAST-MODIFIED:20260127T134514Z
UID:10000829-1778522400-1778533200@www.judoscotland.com
SUMMARY:Child Wellbeing and Protection in Sport (CWPS): Virtual Workshop
DESCRIPTION:[vc_row][vc_column][vc_column_text uncode_shortcode_id=”481538″]Child Wellbeing and Protection in Sport (CWPS) supersedes the previous Safeguarding and Protecting Children (SPC) course.  The training will provide you with the knowledge on child wellbeing and protection that will give you the confidence to deal with issues that may arise in your role working with children. \nSuitable for: \n16 years + who are in regulated work\, delivering or leading sporting activities. \nPlease note\, if your CWPS certificate is about to expire\, you are eligible to complete the CWPS Renewal Award instead of repeating the full course (provided your completed the full course at your last renewal).  \nsportscotland is offering coaches and volunteers (the learner) the opportunity to advance their learning in CWPS\, by giving access to renewal modules in various topics. Instead of just repeating CWPS training after 3 years (i.e completing module 1 & 2)\, the learner can renew their certificate for another 3 years by completing a series of eLearning. This learning is then valid for another 3 years and it is only then that the learner must complete the whole CWPS training again. \nLearners can self-register for the Renewal Award here: https://sportscotland.org.uk/safeguarding-in-sport/child-wellbeing-and-protection/training/child-wellbeing-and-protection-in-sport-renewal-award \nIf you would like to complete the full CWPS course\, details are below: \nModule 1 \neLearning module introduces you to the basic theory\, knowledge and practice which underpins child wellbeing and protection in sport. On average it should take around 30 minutes to complete the module and you MUST complete this module before attending Module 2. \nBy the end of module 1 learners will be able to: \n\nUnderstand what is meant by ‘child wellbeing and protection’\nRecognise the value of a child-centred approach to child wellbeing and protection\nIdentify good practise in relation to child wellbeing and protection and how this impacts the sports environment\nRecognise the legislative and policy framework around child wellbeing and protection\nIdentify and respond to possible child wellbeing or protection concerns\nIdentify the limits of your safeguarding role and know when to get support\n\nModule 2 \nA 3 hour training course led by one of sportscotland’s approved tutors.  Learners must complete both modules to gain the qualification and receive their certificate. \nBy the end of module 2 learners will: \n\nBe introduced to the Spectrum of Practice and use it to consider\, evaluate and respond to common coaching scenarios\nReceive an introduction to the factors that create a culture of poor practice\nIdentify barriers to disclosure\nCover the process for responding to concerns\nPut the responding to concerns process into practice to deal with serval complex cases\n\nAccess to module 1: Brightspace \nsportscotland has recently developed a new registration and certification process using a virtual learning environment – “Brightspace”. \nWhen you book onto a CWPS course through JudoScotland\, you will then be given access to Brightspace. This is where you will complete Module 1. When using Brightspace this can only be accessed on Chrome /Safari/Firefox browsers. Internet explorer browser is no longer supported. \nCertificates \nOnce you have completed module 1 and attended module 2\, your Tutor will approve the release of your certificate. It will be available to download from your Brightspace portfolio within 24 hours of completing[/vc_column_text][vc_button button_color=”color-207544″ border_width=”0″ link=”url:https%3A%2F%2Fjudoscotland.justgo.com%2FWorkbench%2Fi%2Fr%2FEventsAndBookings%2Fbooking-details%2F1A5009260EAE2BF2CF23445ABD052A7766A9BA43|target:_blank” button_color_type=”uncode-palette” uncode_shortcode_id=”128957″]Book Your Space[/vc_button][/vc_column][/vc_row]
URL:https://www.judoscotland.com/event/child-wellbeing-and-protection-in-sport-cwps-virtual-workshop/
LOCATION:Online
ATTACH;FMTTYPE=image/png:https://www.judoscotland.com/wp-content/uploads/2023/01/child-wellbeing-protection-in-sport.png
END:VEVENT
BEGIN:VEVENT
DTSTART;TZID=Europe/London:20260824T180000
DTEND;TZID=Europe/London:20260824T210000
DTSTAMP:20260423T180541
CREATED:20260127T134554Z
LAST-MODIFIED:20260127T134554Z
UID:10000830-1787594400-1787605200@www.judoscotland.com
SUMMARY:Child Wellbeing and Protection in Sport (CWPS): Virtual Workshop
DESCRIPTION:[vc_row][vc_column][vc_column_text uncode_shortcode_id=”481538″]Child Wellbeing and Protection in Sport (CWPS) supersedes the previous Safeguarding and Protecting Children (SPC) course.  The training will provide you with the knowledge on child wellbeing and protection that will give you the confidence to deal with issues that may arise in your role working with children. \nSuitable for: \n16 years + who are in regulated work\, delivering or leading sporting activities. \nPlease note\, if your CWPS certificate is about to expire\, you are eligible to complete the CWPS Renewal Award instead of repeating the full course (provided your completed the full course at your last renewal).  \nsportscotland is offering coaches and volunteers (the learner) the opportunity to advance their learning in CWPS\, by giving access to renewal modules in various topics. Instead of just repeating CWPS training after 3 years (i.e completing module 1 & 2)\, the learner can renew their certificate for another 3 years by completing a series of eLearning. This learning is then valid for another 3 years and it is only then that the learner must complete the whole CWPS training again. \nLearners can self-register for the Renewal Award here: https://sportscotland.org.uk/safeguarding-in-sport/child-wellbeing-and-protection/training/child-wellbeing-and-protection-in-sport-renewal-award \nIf you would like to complete the full CWPS course\, details are below: \nModule 1 \neLearning module introduces you to the basic theory\, knowledge and practice which underpins child wellbeing and protection in sport. On average it should take around 30 minutes to complete the module and you MUST complete this module before attending Module 2. \nBy the end of module 1 learners will be able to: \n\nUnderstand what is meant by ‘child wellbeing and protection’\nRecognise the value of a child-centred approach to child wellbeing and protection\nIdentify good practise in relation to child wellbeing and protection and how this impacts the sports environment\nRecognise the legislative and policy framework around child wellbeing and protection\nIdentify and respond to possible child wellbeing or protection concerns\nIdentify the limits of your safeguarding role and know when to get support\n\nModule 2 \nA 3 hour training course led by one of sportscotland’s approved tutors.  Learners must complete both modules to gain the qualification and receive their certificate. \nBy the end of module 2 learners will: \n\nBe introduced to the Spectrum of Practice and use it to consider\, evaluate and respond to common coaching scenarios\nReceive an introduction to the factors that create a culture of poor practice\nIdentify barriers to disclosure\nCover the process for responding to concerns\nPut the responding to concerns process into practice to deal with serval complex cases\n\nAccess to module 1: Brightspace \nsportscotland has recently developed a new registration and certification process using a virtual learning environment – “Brightspace”. \nWhen you book onto a CWPS course through JudoScotland\, you will then be given access to Brightspace. This is where you will complete Module 1. When using Brightspace this can only be accessed on Chrome /Safari/Firefox browsers. Internet explorer browser is no longer supported. \nCertificates \nOnce you have completed module 1 and attended module 2\, your Tutor will approve the release of your certificate. It will be available to download from your Brightspace portfolio within 24 hours of completing[/vc_column_text][vc_button button_color=”color-207544″ border_width=”0″ link=”url:https%3A%2F%2Fjudoscotland.justgo.com%2FWorkbench%2Fi%2Fr%2FEventsAndBookings%2Fbooking-details%2F2A93A4864AF5CE4C9A64CA062C3D39FEA8EE956F|target:_blank” button_color_type=”uncode-palette” uncode_shortcode_id=”982548″]Book Your Space[/vc_button][/vc_column][/vc_row]
URL:https://www.judoscotland.com/event/child-wellbeing-and-protection-in-sport-cwps-virtual-workshop-2/
LOCATION:Online
ATTACH;FMTTYPE=image/png:https://www.judoscotland.com/wp-content/uploads/2023/01/child-wellbeing-protection-in-sport.png
END:VEVENT
BEGIN:VEVENT
DTSTART;TZID=Europe/London:20261014T190000
DTEND;TZID=Europe/London:20261014T203000
DTSTAMP:20260423T180541
CREATED:20251029T145952Z
LAST-MODIFIED:20251029T145952Z
UID:10000768-1792004400-1792009800@www.judoscotland.com
SUMMARY:JudoScotland Time Keeping Online Course
DESCRIPTION:[vc_row][vc_column][vc_column_text uncode_shortcode_id=”204030″]Becoming a timekeeper/scorer is the starting point of your officiating journey in judo. \nIf you are new to judo and/or want to help out at competitions then this is the officiating role for you. \nThis course will be delivered initially online and a mentor system will be put into place at competitions. This course focuses on understanding the basics of a judo contest and the role of the timekeeper and scorer plays during competition judo. \nOn successful completion of the training programme\, candidates will be able to act as JudoScotland timekeepers and scorers at British Judo/JudoScotland events and competitions full support will be given to candidates at events. \nWhat do you need before you can sign up? \n\nBe at least 10 years of age\nGood communication and ‘people skills’\nTraining details\n\nCandidates undergo ‘on the job’ training at a competition in order to become timekeepers/scorers. As part of their training candidates learn: \n\nAn awareness of referee words and signals which require action from them as Timekeepers/Scorers\nAn ability to time keep and score effectively including when to re-set at the end of the contest\nAn awareness of procedure when osaekomi is on at the end of contest time\nA basic understanding of scoring and penalty systems\n\n[/vc_column_text][vc_button border_width=”0″ link=”url:https%3A%2F%2Fjudoscotland.justgo.com%2Fworkbench%2Fpublic%2Fevents%3Fref%3DF9D7B58EE24B4B68459111CB8A440491681F56EE|target:_blank” uncode_shortcode_id=”181664″]Book Your Space[/vc_button][vc_button button_color=”color-207544″ border_width=”0″ link=”url:https%3A%2F%2Fwww.judoscotland.com%2Fcoaching-volunteering%2Fbecome-a-technical-official%2F” uncode_shortcode_id=”136811″ button_color_type=”uncode-palette”]Why Become a Technical Official[/vc_button][/vc_column][/vc_row]
URL:https://www.judoscotland.com/event/judoscotland-time-keeping-online-course-2/
LOCATION:Online
CATEGORIES:JudoScotland Event
ATTACH;FMTTYPE=image/jpeg:https://www.judoscotland.com/wp-content/uploads/2023/01/eb_Keizoku_2022_48-scaled.jpg
END:VEVENT
BEGIN:VEVENT
DTSTART;TZID=Europe/London:20261102T180000
DTEND;TZID=Europe/London:20261102T210000
DTSTAMP:20260423T180541
CREATED:20260127T134631Z
LAST-MODIFIED:20260127T134631Z
UID:10000831-1793642400-1793653200@www.judoscotland.com
SUMMARY:Child Wellbeing and Protection in Sport (CWPS): Virtual Workshop
DESCRIPTION:[vc_row][vc_column][vc_column_text uncode_shortcode_id=”481538″]Child Wellbeing and Protection in Sport (CWPS) supersedes the previous Safeguarding and Protecting Children (SPC) course.  The training will provide you with the knowledge on child wellbeing and protection that will give you the confidence to deal with issues that may arise in your role working with children. \nSuitable for: \n16 years + who are in regulated work\, delivering or leading sporting activities. \nPlease note\, if your CWPS certificate is about to expire\, you are eligible to complete the CWPS Renewal Award instead of repeating the full course (provided your completed the full course at your last renewal).  \nsportscotland is offering coaches and volunteers (the learner) the opportunity to advance their learning in CWPS\, by giving access to renewal modules in various topics. Instead of just repeating CWPS training after 3 years (i.e completing module 1 & 2)\, the learner can renew their certificate for another 3 years by completing a series of eLearning. This learning is then valid for another 3 years and it is only then that the learner must complete the whole CWPS training again. \nLearners can self-register for the Renewal Award here: https://sportscotland.org.uk/safeguarding-in-sport/child-wellbeing-and-protection/training/child-wellbeing-and-protection-in-sport-renewal-award \nIf you would like to complete the full CWPS course\, details are below: \nModule 1 \neLearning module introduces you to the basic theory\, knowledge and practice which underpins child wellbeing and protection in sport. On average it should take around 30 minutes to complete the module and you MUST complete this module before attending Module 2. \nBy the end of module 1 learners will be able to: \n\nUnderstand what is meant by ‘child wellbeing and protection’\nRecognise the value of a child-centred approach to child wellbeing and protection\nIdentify good practise in relation to child wellbeing and protection and how this impacts the sports environment\nRecognise the legislative and policy framework around child wellbeing and protection\nIdentify and respond to possible child wellbeing or protection concerns\nIdentify the limits of your safeguarding role and know when to get support\n\nModule 2 \nA 3 hour training course led by one of sportscotland’s approved tutors.  Learners must complete both modules to gain the qualification and receive their certificate. \nBy the end of module 2 learners will: \n\nBe introduced to the Spectrum of Practice and use it to consider\, evaluate and respond to common coaching scenarios\nReceive an introduction to the factors that create a culture of poor practice\nIdentify barriers to disclosure\nCover the process for responding to concerns\nPut the responding to concerns process into practice to deal with serval complex cases\n\nAccess to module 1: Brightspace \nsportscotland has recently developed a new registration and certification process using a virtual learning environment – “Brightspace”. \nWhen you book onto a CWPS course through JudoScotland\, you will then be given access to Brightspace. This is where you will complete Module 1. When using Brightspace this can only be accessed on Chrome /Safari/Firefox browsers. Internet explorer browser is no longer supported. \nCertificates \nOnce you have completed module 1 and attended module 2\, your Tutor will approve the release of your certificate. It will be available to download from your Brightspace portfolio within 24 hours of completing[/vc_column_text][vc_button button_color=”color-207544″ border_width=”0″ link=”url:https%3A%2F%2Fjudoscotland.justgo.com%2FWorkbench%2Fi%2Fr%2FEventsAndBookings%2Fbooking-details%2F92DEC887C09C86647F2E011B1E9507E2B5BAC8C8|target:_blank” button_color_type=”uncode-palette” uncode_shortcode_id=”108133″]Book Your Space[/vc_button][/vc_column][/vc_row]
URL:https://www.judoscotland.com/event/child-wellbeing-and-protection-in-sport-cwps-virtual-workshop-3/
LOCATION:Online
ATTACH;FMTTYPE=image/png:https://www.judoscotland.com/wp-content/uploads/2023/01/child-wellbeing-protection-in-sport.png
END:VEVENT
END:VCALENDAR